BEGIN:VCALENDAR
VERSION:2.0
PRODID:-//Polska Parafia Chrystusa Króla w Londynie Balham - ECPv6.15.20//NONSGML v1.0//EN
CALSCALE:GREGORIAN
METHOD:PUBLISH
X-WR-CALNAME:Polska Parafia Chrystusa Króla w Londynie Balham
X-ORIGINAL-URL:https://parafia-balham.sumobaby.co.uk
X-WR-CALDESC:Wydarzenia dla Polska Parafia Chrystusa Króla w Londynie Balham
REFRESH-INTERVAL;VALUE=DURATION:PT1H
X-Robots-Tag:noindex
X-PUBLISHED-TTL:PT1H
BEGIN:VTIMEZONE
TZID:Europe/London
BEGIN:DAYLIGHT
TZOFFSETFROM:+0000
TZOFFSETTO:+0100
TZNAME:BST
DTSTART:20230326T010000
END:DAYLIGHT
BEGIN:STANDARD
TZOFFSETFROM:+0100
TZOFFSETTO:+0000
TZNAME:GMT
DTSTART:20231029T010000
END:STANDARD
BEGIN:DAYLIGHT
TZOFFSETFROM:+0000
TZOFFSETTO:+0100
TZNAME:BST
DTSTART:20240331T010000
END:DAYLIGHT
BEGIN:STANDARD
TZOFFSETFROM:+0100
TZOFFSETTO:+0000
TZNAME:GMT
DTSTART:20241027T010000
END:STANDARD
BEGIN:DAYLIGHT
TZOFFSETFROM:+0000
TZOFFSETTO:+0100
TZNAME:BST
DTSTART:20250330T010000
END:DAYLIGHT
BEGIN:STANDARD
TZOFFSETFROM:+0100
TZOFFSETTO:+0000
TZNAME:GMT
DTSTART:20251026T010000
END:STANDARD
BEGIN:DAYLIGHT
TZOFFSETFROM:+0000
TZOFFSETTO:+0100
TZNAME:BST
DTSTART:20260329T010000
END:DAYLIGHT
BEGIN:STANDARD
TZOFFSETFROM:+0100
TZOFFSETTO:+0000
TZNAME:GMT
DTSTART:20261025T010000
END:STANDARD
END:VTIMEZONE
BEGIN:VEVENT
DTSTART;TZID=Europe/London:20250511T123000
DTEND;TZID=Europe/London:20250511T150000
DTSTAMP:20260420T103028
CREATED:20250509T014124Z
LAST-MODIFIED:20250509T014719Z
UID:8622-1746966600-1746975600@parafia-balham.sumobaby.co.uk
SUMMARY:Obchody 1000-lecia Królestwa Polskiego
DESCRIPTION:Drodzy Parafianie i Przyjaciele  \nZapraszamy do wspólnego świętowania Obchodów Spotkajmy się 11 maja o godz.12.30 na Mszy Świętej w intencji naszej Ojczyzny.Po Mszy Świętej wyruszymy w rytmie Poloneza na oś. Św. Antoniego\, gdzie nasza młodzież i dzieci wystąpi na okolicznościowej akademii\, a później grill\, słodkości i inne niespodzianki np. KONKURS na najlepsze przebranie Nie może Was zabraknąć na tym wydarzeniu  \n 
URL:https://parafia-balham.sumobaby.co.uk/wydarzenie/obchody-1000-lecia-krolestwa-polskiego/
LOCATION:Kościół parafialny\, 232/234 Balham High Road\, Londyn\, SW17 7AW\, United Kingdom
CATEGORIES:Wydarzenie parafialne
ATTACH;FMTTYPE=image/jpeg:https://parafia-balham.sumobaby.co.uk/wp-content/uploads/2025/05/1000-lecie.jpg
END:VEVENT
BEGIN:VEVENT
DTSTART;TZID=Europe/London:20240428T130000
DTEND;TZID=Europe/London:20240428T180000
DTSTAMP:20260420T103028
CREATED:20240413T163909Z
LAST-MODIFIED:20240416T070847Z
UID:8125-1714309200-1714327200@parafia-balham.sumobaby.co.uk
SUMMARY:Piknik Parafialny
DESCRIPTION:Wiosna już wyraźnie daje o sobie znać\, a otaczający nas świat znów nabiera kolorów. Warto ten wiosenny czas zacząć z „wysokiego C” dlatego zapraszamy wszystkich na Niedzielną Eucharystię\, a po niej na integracyjny Piknik parafialny. Impreza odbędzie się w osiedlu świętego Antoniego\, gdzie niestety mamy nieco ograniczoną ilość miejsca do dyspozycji\, dlatego bardzo prosimy o zapisywanie się na STRONIE NASZEGO WYDARZENIA. \nPiknik parafialny to okazja do wspólnego spędzania wolnego czasu\, rodzinnej rozrywki oraz poznania nowych ludzi spośród grona naszych parafian. Gry\, zabawy oraz muzyka pomogą nam radośnie spędzić ten czas\, natomiast dla głodomorów nie zabraknie różnego rodzaju atrakcji spożywczych. Nie chcemy wszystkiego od razu zdradzać. Warto śledzić aktualizacje na stronie tego wydarzenia oraz w zakładce OGŁOSZENIA PARAFIALNE\, a także na Facebooku. \nOczywiście wszyscy jesteśmy zaproszeni do współtworzenia tego wydarzenia! Jeśli uważasz\, że masz dobry pomysł na grę lub zabawę integracyjną lub chodzi ci po głowie coś innego\, co mogłoby uświetnić wspólnie spędzony czas\, nie wahaj się odezwać do członków rady parafialnej bądź bezpośrednio do księdza proboszcza. Najprościej będzie\, jeśli polubisz post związany z piknikiem na naszym FACEBOOKU PARAFIALNYM i pod postem umieścisz komentarz z podpowiedzią. Oczywiście możesz wysłać nam także email\, ale tylko komentarz pod postem pozwoli ci sprawdzić czy twój pomysł nie dubluje się z pomysłem kogoś\, kto już przed tobą zaproponował podobne rozwiązanie\, a nam zebrać wszystkie ciekawe pomysły w jednym miejscu. \nPiknik parafialny odbędzie się 28 kwietnia 2024 roku. Rozpoczniemy około godziny 13:00. Planujemy zakończenie wspólnej zabawy około godziny 18:00\, ale jak to mówią „czas pokaże” – nie wykluczamy przedłużenia wspólnego Świętowania Niedzieli. Bardzo prosimy o zarejestrowanie się odpowiednio wcześniej\, ponieważ nie możemy zagwarantować dodatkowego miejsca dla spóźnialskich. Bilet wstępu jest jednocześnie losem w loterii. \nNiech najbliższe dwa tygodnie będą dla nas czasem przygotowania. Głęboko wierzymy\, że nikt nie będzie zawiedziony\, ale by tak się mogło stać\, potrzebujemy waszej obecności i zaangażowania. \nNiech będzie pochwalony Jezus Chrystus!
URL:https://parafia-balham.sumobaby.co.uk/wydarzenie/piknik-parafialny/
CATEGORIES:Wydarzenie parafialne
END:VEVENT
END:VCALENDAR