BEGIN:VCALENDAR
VERSION:2.0
PRODID:-//Polska Parafia Chrystusa Króla w Londynie Balham - ECPv6.15.20//NONSGML v1.0//EN
CALSCALE:GREGORIAN
METHOD:PUBLISH
X-ORIGINAL-URL:https://parafia-balham.sumobaby.co.uk
X-WR-CALDESC:Wydarzenia dla Polska Parafia Chrystusa Króla w Londynie Balham
REFRESH-INTERVAL;VALUE=DURATION:PT1H
X-Robots-Tag:noindex
X-PUBLISHED-TTL:PT1H
BEGIN:VTIMEZONE
TZID:Europe/London
BEGIN:DAYLIGHT
TZOFFSETFROM:+0000
TZOFFSETTO:+0100
TZNAME:BST
DTSTART:20230326T010000
END:DAYLIGHT
BEGIN:STANDARD
TZOFFSETFROM:+0100
TZOFFSETTO:+0000
TZNAME:GMT
DTSTART:20231029T010000
END:STANDARD
BEGIN:DAYLIGHT
TZOFFSETFROM:+0000
TZOFFSETTO:+0100
TZNAME:BST
DTSTART:20240331T010000
END:DAYLIGHT
BEGIN:STANDARD
TZOFFSETFROM:+0100
TZOFFSETTO:+0000
TZNAME:GMT
DTSTART:20241027T010000
END:STANDARD
BEGIN:DAYLIGHT
TZOFFSETFROM:+0000
TZOFFSETTO:+0100
TZNAME:BST
DTSTART:20250330T010000
END:DAYLIGHT
BEGIN:STANDARD
TZOFFSETFROM:+0100
TZOFFSETTO:+0000
TZNAME:GMT
DTSTART:20251026T010000
END:STANDARD
END:VTIMEZONE
BEGIN:VEVENT
DTSTART;TZID=Europe/London:20240107T100000
DTEND;TZID=Europe/London:20240107T103000
DTSTAMP:20260420T141358
CREATED:20231226T123004Z
LAST-MODIFIED:20231227T095832Z
UID:7948-1704621600-1704623400@parafia-balham.sumobaby.co.uk
SUMMARY:Orszak Trzech Króli
DESCRIPTION:W związku z uroczystością objawienia Pańskiego po raz kolejny zapraszamy wszystkich parafian na Orszak Trzech Króli.\nZgromadzimy się o 10:00 w okolicach stacji kolejowej/metra Londyn Balham następnie wyruszymy z tego miejsca w asyście Policji około 10:30 i udamy się do Kościoła Chrystusa Króla przy 232-234 Balham High Road\, by tak jak trzej królowie oddać pokłon nowonarodzonemu Jezusowi złożonemu w żłóbku. Po zakończeniu procesji będziemy uczestniczyć we Mszy Świętej z Uroczystości Objawienia Pańskiego. \n \nDo udziału zapraszamy wszystkich parafian w szczególności rodziców z dziećmi. Prosimy by zabrać przygotowane przez siebie korony oraz stroje królów i księżniczek. W trakcie Mszy Świętej będzie miało miejsce poświęcenie kredy i kadzidła\, które zabierzemy ze sobą do domu żeby oznaczyć nasze drzwi. \nNiech tegoroczny Orszak Trzech Króli pozwoli nam nie tylko świętować Objawienie Pańskie\, ale także pomoże zaznaczyć obecność Polonii na wyspach Brytyjskich \nWięcej informacji już niebawem z zakładce OGŁOSZENIA
URL:https://parafia-balham.sumobaby.co.uk/wydarzenie/orszak-trzech-kroli/
CATEGORIES:Święto Kościelne,Wydarzenie parafialne
END:VEVENT
END:VCALENDAR