BEGIN:VCALENDAR
VERSION:2.0
PRODID:-//Polska Parafia Chrystusa Króla w Londynie Balham - ECPv6.15.20//NONSGML v1.0//EN
CALSCALE:GREGORIAN
METHOD:PUBLISH
X-WR-CALNAME:Polska Parafia Chrystusa Króla w Londynie Balham
X-ORIGINAL-URL:https://parafia-balham.sumobaby.co.uk
X-WR-CALDESC:Wydarzenia dla Polska Parafia Chrystusa Króla w Londynie Balham
REFRESH-INTERVAL;VALUE=DURATION:PT1H
X-Robots-Tag:noindex
X-PUBLISHED-TTL:PT1H
BEGIN:VTIMEZONE
TZID:Europe/London
BEGIN:DAYLIGHT
TZOFFSETFROM:+0000
TZOFFSETTO:+0100
TZNAME:BST
DTSTART:20230326T010000
END:DAYLIGHT
BEGIN:STANDARD
TZOFFSETFROM:+0100
TZOFFSETTO:+0000
TZNAME:GMT
DTSTART:20231029T010000
END:STANDARD
BEGIN:DAYLIGHT
TZOFFSETFROM:+0000
TZOFFSETTO:+0100
TZNAME:BST
DTSTART:20240331T010000
END:DAYLIGHT
BEGIN:STANDARD
TZOFFSETFROM:+0100
TZOFFSETTO:+0000
TZNAME:GMT
DTSTART:20241027T010000
END:STANDARD
BEGIN:DAYLIGHT
TZOFFSETFROM:+0000
TZOFFSETTO:+0100
TZNAME:BST
DTSTART:20250330T010000
END:DAYLIGHT
BEGIN:STANDARD
TZOFFSETFROM:+0100
TZOFFSETTO:+0000
TZNAME:GMT
DTSTART:20251026T010000
END:STANDARD
END:VTIMEZONE
BEGIN:VEVENT
DTSTART;TZID=Europe/London:20240204T100000
DTEND;TZID=Europe/London:20240204T130000
DTSTAMP:20260420T122349
CREATED:20240121T194655Z
LAST-MODIFIED:20240121T203352Z
UID:7995-1707040800-1707051600@parafia-balham.sumobaby.co.uk
SUMMARY:Kiermasz Maltański
DESCRIPTION:Pomoc Maltańska Balham – Kiermasz Maltański.\nPo raz kolejny oddział Służby Maltańskiej przy parafii Chrystusa Króla w Balham włącza się w doroczną pielgrzymkę ludzi chorych do sanktuarium Maryjnego w Lourdes we Francji. Chyba nie trzeba nikomu tłumaczyć\, że wspomniane wyżej sanktuarium słynie nie tylko z objawień Maryjnych\, ale także z licznych uzdrowień\, które dokonywały się i nadal dokonują przez ręce Matki Najświętszej. Właśnie dlatego chorzy ze wszystkich zakątków świata udają się do tego miejsca by tam prosić o łaskę uzdrowienia. Niestety nie wszystkich stać na taki wyjazd. Nie wszyscy mogą sobie także pozwolić na samodzielną podróż z uwagi na liczne trudności zdrowotne czy niepełnosprawność. Można powiedzieć\, że realizuje się w nich obraz niewidomego z Ewangelii wg św. Jana\, który czekał na swój moment przy sadzawce Bethesda lecz nie dane było mu skorzystać z łaski uzdrowienia (patrz: J 5\, 1-3a. 5-16) \nJak co roku młodzież z naszej parafii organizuje Kiermasz Maltański\, z którego dochód zostanie przeznaczony na wsparcie osób chorych chcących jechać 2 maja 2024 razem z Kadetami do Lourdes\, oraz na sfinansowanie podróży dla wolontariuszy opiekujących się wspomnianymi wyżej osobami chorymi i słabymi. W tym roku kiermasz odbędzie się w niedzielę 4 lutego. Stosowną zapowiedź można znaleźć w BIULETYNIE PARAFIALNYM. Kadeci przygotują dla nas różnego rodzaju „cegiełki”\, których zakup sfinansuje tę inicjatywę. W szczególności polecamy pierogi własnoręcznie przygotowane przez naszych Kadetów. \nNiewidomy siedzący przy sadzawce Bethesda skarżył się Jezusowi\, że nie może zostać uzdrowiony\, bo nie ma nikogo\, kto by mu pomógł zejść do sadzawki kiedy nastąpi poruszenie wody. Sami może nie mamy możliwości jechać jako wolontariusze dla kogoś\, kto potrzebuje pomocy drugiego\, by skorzystać z łask\, z których słynie sanktuarium. Możemy jednak wesprzeć tych\, którzy mają możliwość poświecić swój czas. \nZapraszamy do śledzenia Profilu Facebook’owego Służby Maltańskiej w Wielkiej Brytanii oraz ich Strony Internetowej  Gdzie można znaleźć relacje z pielgrzymek organizowanych przez Kadetów w latach poprzednich.
URL:https://parafia-balham.sumobaby.co.uk/wydarzenie/kiermasz-maltanski/
LOCATION:Kościół parafialny\, 232/234 Balham High Road\, Londyn\, SW17 7AW\, United Kingdom
CATEGORIES:Wydarzenie parafialne
END:VEVENT
END:VCALENDAR