BEGIN:VCALENDAR
VERSION:2.0
PRODID:-//Polska Parafia Chrystusa Króla w Londynie Balham - ECPv6.15.20//NONSGML v1.0//EN
CALSCALE:GREGORIAN
METHOD:PUBLISH
X-WR-CALNAME:Polska Parafia Chrystusa Króla w Londynie Balham
X-ORIGINAL-URL:https://parafia-balham.sumobaby.co.uk
X-WR-CALDESC:Wydarzenia dla Polska Parafia Chrystusa Króla w Londynie Balham
REFRESH-INTERVAL;VALUE=DURATION:PT1H
X-Robots-Tag:noindex
X-PUBLISHED-TTL:PT1H
BEGIN:VTIMEZONE
TZID:Europe/London
BEGIN:DAYLIGHT
TZOFFSETFROM:+0000
TZOFFSETTO:+0100
TZNAME:BST
DTSTART:20230326T010000
END:DAYLIGHT
BEGIN:STANDARD
TZOFFSETFROM:+0100
TZOFFSETTO:+0000
TZNAME:GMT
DTSTART:20231029T010000
END:STANDARD
BEGIN:DAYLIGHT
TZOFFSETFROM:+0000
TZOFFSETTO:+0100
TZNAME:BST
DTSTART:20240331T010000
END:DAYLIGHT
BEGIN:STANDARD
TZOFFSETFROM:+0100
TZOFFSETTO:+0000
TZNAME:GMT
DTSTART:20241027T010000
END:STANDARD
BEGIN:DAYLIGHT
TZOFFSETFROM:+0000
TZOFFSETTO:+0100
TZNAME:BST
DTSTART:20250330T010000
END:DAYLIGHT
BEGIN:STANDARD
TZOFFSETFROM:+0100
TZOFFSETTO:+0000
TZNAME:GMT
DTSTART:20251026T010000
END:STANDARD
END:VTIMEZONE
BEGIN:VEVENT
DTSTART;TZID=Europe/London:20241004T050000
DTEND;TZID=Europe/London:20241011T194000
DTSTAMP:20260420T103028
CREATED:20240211T091859Z
LAST-MODIFIED:20240212T184527Z
UID:8022-1728018000-1728675600@parafia-balham.sumobaby.co.uk
SUMMARY:Pielgrzymka śladami św. Pawła
DESCRIPTION:GRECJA – pielgrzymka śladami drugiej podróży misyjnej św. Pawła\n\n(Ελλάδα po grecku\, Ellada) jest powszechnie znana z przyjaznej atmosfery i prawdziwej gościnności\, co sprawia\, że wielu​ turystów zakochuje się w niej i wraca nawet co roku. Bez względu na to\, ile razy ją odwiedzisz\, za każdym razem będziesz odkrywać nowe elementy jej bogatej kultury i piękna. Grecja ma najdłuższą linię brzegową w Europie i 5. najdłuższą linię brzegową na świecie\, a także zajmuje 10. miejsce na liście krajów z największą liczbą wysp. Populacja Grecji wynosi około 11 milionów\, podczas gdy Ateny\, stolica kraju\, są najgęściej zaludnionym obszarem\, z około 4 milionami mieszkańców. Największymi miastami po Atenach są Saloniki i Patras. Grecy są na ogół dumni ze swojego dziedzictwa kulturowego\, które kształtuje ich tożsamość i tworzy poczucie przynależności. Wyjątkowa kultura Grecji przejawia się w różnych aspektach współczesnego życia codziennego\, od praktyk religijnych po język\, muzykę ludową i gastronomię. Mitologia starożytnej Grecji była jedną z najważniejszych części starożytnej cywilizacji. Opowieści zwykle dotyczyły bogów\, bogiń i innych bytów metafizycznych\, próbując wyjaśnić świat i zjawiska naturalne\, uczyć lekcji moralnych lub zapewniać rozrywkę. Grecy do dzisiaj są bardzo przywiązani do tych historii. Nasza pielgrzymka śladami św. Pawła pozwoli nam się skupić na tym co istotne dla chrześcijan. Będziemy wspólnie poznawać miejsca\, w których św. Paweł był i nauczał o Chrystusie. \nProgram wyjazdu:\n1 dzień– Spotkanie na lotnisku London Gatwick o godz. 5:00. Przelot do Salonik – rozpoczęcie pielgrzymki śladami św. Pawła. Spotkanie z przewodnikiem i przejazd do centrum SALONIK. Msza Św. na rozpoczęcie pielgrzymki. Pierwszy spacer po mieście\, w którym św. Paweł spędził 3 tygodnie i z którego musiał uciekać posądzony o działanie przeciw państwu. Zobaczymy: łuk triumfalny cesarza Galeriusza\, pomnik Aleksandra Wielkiego i Arystotelesa\, rzymskie i średniowieczne budowle\, przepiękne świątynie bizantyjskie oraz starą dzielnicę Kastro i słynną białą wieżę pozostałą po władaniu Wenecjan. Najważniejszym dla naszej pielgrzymki zabytkiem jest jednak kościół św. Demetriusza z V wieku. Przejazd do hotelu na przedmieściach Salonik. Zakwaterowanie\, kolacja i nocleg. \n2 dzień– Po śniadaniu przejazd do FILIPPI – pierwszego miejsca związanego z działalnością św. Pawła na greckiej ziemi. To tu powstał pierwszy w europie Kościół Chrześcijański. W Filippi zobaczymy tereny wykopalisk archeologicznych w miejscu dawnego miasta rzymskiego: bazyliki\, łaźnie\, akropol oraz więzienie\, w którym osadzeni byli św. Paweł i Sylas. Odwiedzimy także prawdopodobne miejsce chrztu Lidii\, która ugościła Pawła\, Tymoteusza i Sylasa. Msza w Filippi przy źródle. Msza św. w Filippi. Następnie przejazd do nadmorskiej KAWALI (dawniej Neapoli)\, gdzie Apostoł rozpoczął swą misję po Europie w 49 r.n.e.. Wizyta w kościele Agios Nikolaos\, do którego\, jak głosi legenda\, przybył św. Paweł. Zobaczymy również starożytny akwedukt i piękną panoramę portu i starego miasta. Wieczorem powrót do hotelu na kolację i nocleg. \n3 dzień– Po śniadaniu wykwaterowanie i przejazd do KALAMBAKI– zwiedzanie Meteorów\, klasztorów zbudowanych na wznoszących się w niebo słupach skalnych\, które zdają się być zawieszone pomiędzy niebem i ziemią. Msza św. plenerowa w Meteorach. Wieczorem przejazd do hotelu. Kolacja i nocleg. \n4 dzień– Po śniadaniu wykwaterowanie i przejazd do DELF– miejsca uważanego w starożytności za środek świata. Zwiedzimy  centrum  kultu  Apolina\,  świątynię\,  amfiteatr  i  stadion.  Po  południu  przejazd  w  okolice  Aten. Zakwaterowanie w hotelu\, odpoczynek. Wieczorem kolacja i nocleg. \n5 dzień– Po śniadaniu przejazd do centrum ATEN. Msza św. Następnie zobaczymy: ateński Akropol- starożytny ośrodek kultu religijnego (Odeon Herodosa Attykusa\, Świątynia Ateny Nike\, Propyleje\, Partenon\, Erechtejon)\, Teatr Dionizosa\, Świątynię Zeusa Olimpijskiego\, Łuk Hadriana\, Starożytny Stadion Olimpijski- miejsce pierwszych nowożytnych igrzysk olimpijskich\, Ogrody Narodowe\, Parlament. Spacer po Place- urokliwej starej dzielnicy z mnóstwem tawern\, sklepików\, wąskich uliczek i zaułków\, z pięknym widokiem na oświetlony Akropol. Wieczorem powrót do hotelu na kolację i nocleg. \n6 dzień– Śniadanie w hotelu. W tym dniu zapraszamy na całodzienny rejs na wyspy. Odwiedzimy wyspy Hydra i Spetses. Na każdej wyspie będzie czas wolny na spacery i rozkoszowanie się prawdziwie greckim trybem życia „siga\, siga”. Dla chętnych możliwość kąpieli morskich. Powrót do hotelu. Wieczorem kolacja i nocleg \n7 dzień– Po śniadaniu wizyta w kolejnym miejscu związanym z obecnością św. Pawła- KORYNCIE. Zobaczymy ruiny starożytnego miasta i miejsce\, gdzie Apostoł miał przemawiać do mieszkańców miasta. Msza plenerowa w ruinach w Koryncie. Kolejnym miejscem\, które odwiedzimy będą MYKENY. W tym liczącym ponad 3\,5 tysiąca lat mieście znajdują się ruiny jednego z najstarszych miast i pałacu\, do których prowadziła słynna lwia brama. W niewielkiej odległości od niego znajduje się wspomniany przez J. Słowackiego grób Agamemnona- tryumfatora spod Troi. Po wizycie w Mykenach\, przejedziemy do EPIDAUROS– miejsca\, gdzie znajduje się jeden z cudów sztuki architektonicznej starożytnych Greków. Wieczorem powrót do hotelu na kolację i nocleg. \n8 dzień– Po śniadaniu wykwaterowanie i przejazd do ATEN. Ostatni spacer po mieście\, czas wolny na zakupy. Ok. 15:00 przejazd na lotnisko. Pożegnanie z przewodnikiem i przelot do Londynu (Heathrow). \nAktualizacje związane z pielgrzymką można znaleźć w zakładce OGŁOSZENIA oraz na FACEBOOKU PARAFIALNYM \nŚWIADCZENIA\n\nTRANSPORT: przelot samolotem\, transfery komfortowym autokarem w Grecji\nZAKWATEROWANIE: 7 noclegów w hotelach ***\nWYŻYWIENIE 2 x dziennie (7 śniadań\, 7 obiadokolacji)\nOPIEKA PRZEWODNIKA w Grecji\nOPIEKA DUCHOWA księdza\nUBEZPIECZENIE KL 20000 Euro\, NNW 15000 zł\, bagaż 1000 zł\nskładki na Turystyczny Fundusz Gwarancyjny i Pomocowy\nrezerwacja Mszy Św.\n\nCena:\n£890\nCENA NIE ZAWIERA BILETÓW WSTĘPU do zwiedzanych obiektów\, lokalnych przewodników\, taksy klimatycznej – łącznie 120 euro/os.\, napojów do obiadokolacji dopłata do pokoju 1- osobowego 200 GBP\, opcjonalnie podczas zwiedzania Aten: wieczór grecki z winem i tańcami 35 euro/os. \nUWAGI\nProgram wyjazdu jest ramowy\, kolejność zwiedzanych obiektów ustala przewodnik Przed zapisem prosimy o sprawdzenie daty ważności paszportu Oferta przygotowana w oparciu o loty British Airways:\n04.10.2024 Londyn Gatwick 07:25- Saloniki 12:50\n11.10.2024 Ateny 17:45- Londyn Heathrow 19:40
URL:https://parafia-balham.sumobaby.co.uk/wydarzenie/grecja-sladami-sw-pawla/
LOCATION:Kościół parafialny\, 232/234 Balham High Road\, Londyn\, SW17 7AW\, United Kingdom
ATTACH;FMTTYPE=image/png:https://parafia-balham.sumobaby.co.uk/wp-content/uploads/2024/02/grecja-1.png
END:VEVENT
END:VCALENDAR